BEGIN:VCALENDAR
VERSION:2.0
PRODID:-//AVRE Conseil//NONSGML kigkonsult.se iCalcreator 2.30.10//
CALSCALE:GREGORIAN
METHOD:PUBLISH
UID:83598aad-2922-4da8-b3e4-ed2efb1c2957
X-WR-CALNAME:iCagenda
X-WR-CALDESC:Event Management Extension for Joomla!
X-WR-RELCALID:3E26604A-50F4-4449-8B3E-E4F4932D05B5
X-WR-TIMEZONE:UTC
BEGIN:VTIMEZONE
TZID:UTC
END:VTIMEZONE
BEGIN:VEVENT
UID:65a376fe-9060-4f35-a214-9e3f86e09c25
DTSTAMP:20260425T002010Z
CATEGORIES:Pougues les Eaux
CLASS:PUBLIC
DESCRIPTION:
DTSTART:20250605T090000Z
DTEND:20250605T090000Z
GEO:00;0
LOCATION:Pougues les Eaux - NEVERS Agglo
ORGANIZER;CN=:c.bonvillain@avreconseil.fr
SEQUENCE:1
SUMMARY:Etude de mise en séparatif de l'assainissement
TRANSP:OPAQUE
URL:https://avreconseil.fr/index.php/fr/ple/328-ple/2025-06-05-09-00
END:VEVENT
END:VCALENDAR
