BEGIN:VCALENDAR
VERSION:2.0
PRODID:-//AVRE Conseil//NONSGML kigkonsult.se iCalcreator 2.30.10//
CALSCALE:GREGORIAN
METHOD:PUBLISH
UID:36516c4b-08e8-44c1-aa37-ebea151bde0b
X-WR-CALNAME:iCagenda
X-WR-CALDESC:Event Management Extension for Joomla!
X-WR-RELCALID:3E26604A-50F4-4449-8B3E-E4F4932D05B5
X-WR-TIMEZONE:UTC
BEGIN:VTIMEZONE
TZID:UTC
END:VTIMEZONE
BEGIN:VEVENT
UID:a77cb788-a8ce-4ffd-a521-61793867c7c6
DTSTAMP:20260423T194242Z
CATEGORIES:Pougues les Eaux
CLASS:PUBLIC
DESCRIPTION:
DTSTART:20250605T143000Z
DTEND:20250605T143000Z
GEO:00;0
LOCATION:Pougues les Eaux - NEVERS Agglo
ORGANIZER;CN=:c.bonvillain@avreconseil.fr
SEQUENCE:1
SUMMARY:Etude de mise en séparatif de l'assainissement
TRANSP:OPAQUE
URL:https://avreconseil.fr/index.php/fr/ple/328-ple/2025-06-05-14-30
END:VEVENT
END:VCALENDAR
